BEGIN:VCALENDAR
VERSION:2.0
PRODID:-//Tukios.com/
BEGIN:VEVENT
UID:c94c02a8-c301-4953-8164-6be7a930399d@www.robinsonandhackemer.com
DTSTAMP:20260420T203850Z
DTSTART:20260425T170000Z
DTEND:20260425T190000Z
SUMMARY:Visitation
DESCRIPTION:
URL:https://www.robinsonandhackemer.com/obituaries/jeffrey-davis-hulme
LOCATION:Robinson And Hackemer Funeral Home 246 North Main Street  Warsaw 
	NY 14569
GEO:42.7485141;-78.1319675
END:VEVENT
END:VCALENDAR